BEGIN:VCALENDAR
VERSION:2.0
PRODID:-//The South Asian Women&#039;s Community Center - ECPv6.15.17.1//NONSGML v1.0//EN
CALSCALE:GREGORIAN
METHOD:PUBLISH
X-WR-CALNAME:The South Asian Women&#039;s Community Center
X-ORIGINAL-URL:https://www.sawcc-ccfsa.ca/EN
X-WR-CALDESC:Events for The South Asian Women&#039;s Community Center
REFRESH-INTERVAL;VALUE=DURATION:PT1H
X-Robots-Tag:noindex
X-PUBLISHED-TTL:PT1H
BEGIN:VTIMEZONE
TZID:America/New_York
BEGIN:DAYLIGHT
TZOFFSETFROM:-0500
TZOFFSETTO:-0400
TZNAME:EDT
DTSTART:20250309T070000
END:DAYLIGHT
BEGIN:STANDARD
TZOFFSETFROM:-0400
TZOFFSETTO:-0500
TZNAME:EST
DTSTART:20251102T060000
END:STANDARD
BEGIN:DAYLIGHT
TZOFFSETFROM:-0500
TZOFFSETTO:-0400
TZNAME:EDT
DTSTART:20260308T070000
END:DAYLIGHT
BEGIN:STANDARD
TZOFFSETFROM:-0400
TZOFFSETTO:-0500
TZNAME:EST
DTSTART:20261101T060000
END:STANDARD
BEGIN:DAYLIGHT
TZOFFSETFROM:-0500
TZOFFSETTO:-0400
TZNAME:EDT
DTSTART:20270314T070000
END:DAYLIGHT
BEGIN:STANDARD
TZOFFSETFROM:-0400
TZOFFSETTO:-0500
TZNAME:EST
DTSTART:20271107T060000
END:STANDARD
END:VTIMEZONE
BEGIN:VEVENT
DTSTART;TZID=America/New_York:20260424T120000
DTEND;TZID=America/New_York:20260424T143000
DTSTAMP:20260422T070543
CREATED:20260405T030426Z
LAST-MODIFIED:20260405T030426Z
UID:720-1777032000-1777041000@www.sawcc-ccfsa.ca
SUMMARY:Community Lunch - Baisakhi Celebration
DESCRIPTION:
URL:https://www.sawcc-ccfsa.ca/EN/event/community-lunch-baisakhi-celebration/
LOCATION:South Asian Women’s Community Centre\, 1035 Rue Rachel E\, Montreal\, Montreal\, H2J 2J5\, Canada
END:VEVENT
BEGIN:VEVENT
DTSTART;TZID=America/New_York:20260428T103000
DTEND;TZID=America/New_York:20260428T120000
DTSTAMP:20260422T070543
CREATED:20260405T030335Z
LAST-MODIFIED:20260405T031328Z
UID:718-1777372200-1777377600@www.sawcc-ccfsa.ca
SUMMARY:Info Session: Online safety made easy with Digimasters
DESCRIPTION:
URL:https://www.sawcc-ccfsa.ca/EN/event/info-session-online-safety-made-easy-with-digimasters/
LOCATION:South Asian Women’s Community Centre\, 1035 Rue Rachel E\, Montreal\, Montreal\, H2J 2J5\, Canada
END:VEVENT
BEGIN:VEVENT
DTSTART;TZID=America/New_York:20260505T103000
DTEND;TZID=America/New_York:20260505T120000
DTSTAMP:20260422T070543
CREATED:20260405T030451Z
LAST-MODIFIED:20260405T031324Z
UID:723-1777977000-1777982400@www.sawcc-ccfsa.ca
SUMMARY:Women’s Group: Mother’s day beadwork crafting with Shoby
DESCRIPTION:
URL:https://www.sawcc-ccfsa.ca/EN/event/womens-group-mothers-day-beadwork-crafting-with-shoby/
LOCATION:South Asian Women’s Community Centre\, 1035 Rue Rachel E\, Montreal\, Montreal\, H2J 2J5\, Canada
END:VEVENT
BEGIN:VEVENT
DTSTART;TZID=America/New_York:20260512T103000
DTEND;TZID=America/New_York:20260512T120000
DTSTAMP:20260422T070543
CREATED:20260405T030552Z
LAST-MODIFIED:20260405T031317Z
UID:725-1778581800-1778587200@www.sawcc-ccfsa.ca
SUMMARY:Info Session: Work life balance with SORIF
DESCRIPTION:
URL:https://www.sawcc-ccfsa.ca/EN/event/info-session-work-life-balance-with-sorif/
LOCATION:South Asian Women’s Community Centre\, 1035 Rue Rachel E\, Montreal\, Montreal\, H2J 2J5\, Canada
END:VEVENT
BEGIN:VEVENT
DTSTART;TZID=America/New_York:20260519T103000
DTEND;TZID=America/New_York:20260519T120000
DTSTAMP:20260422T070543
CREATED:20260405T030624Z
LAST-MODIFIED:20260405T031203Z
UID:727-1779186600-1779192000@www.sawcc-ccfsa.ca
SUMMARY:Workshop: Personal grooming for working women
DESCRIPTION:
URL:https://www.sawcc-ccfsa.ca/EN/event/workshop-personal-grooming-for-working-women/
LOCATION:South Asian Women’s Community Centre\, 1035 Rue Rachel E\, Montreal\, Montreal\, H2J 2J5\, Canada
END:VEVENT
BEGIN:VEVENT
DTSTART;TZID=America/New_York:20260526T103000
DTEND;TZID=America/New_York:20260526T120000
DTSTAMP:20260422T070543
CREATED:20260405T030649Z
LAST-MODIFIED:20260405T031309Z
UID:729-1779791400-1779796800@www.sawcc-ccfsa.ca
SUMMARY:Women’s Group: Embroidering spring flowers for SAWCC
DESCRIPTION:
URL:https://www.sawcc-ccfsa.ca/EN/event/womens-group-embroidering-spring-flowers-for-sawcc/
LOCATION:South Asian Women’s Community Centre\, 1035 Rue Rachel E\, Montreal\, Montreal\, H2J 2J5\, Canada
END:VEVENT
BEGIN:VEVENT
DTSTART;TZID=America/New_York:20260529T120000
DTEND;TZID=America/New_York:20260529T143000
DTSTAMP:20260422T070543
CREATED:20260405T030725Z
LAST-MODIFIED:20260405T030725Z
UID:731-1780056000-1780065000@www.sawcc-ccfsa.ca
SUMMARY:Community Lunch: Mother's Day Celebration
DESCRIPTION:
URL:https://www.sawcc-ccfsa.ca/EN/event/community-lunch-mothers-day-celebration/
LOCATION:South Asian Women’s Community Centre\, 1035 Rue Rachel E\, Montreal\, Montreal\, H2J 2J5\, Canada
END:VEVENT
BEGIN:VEVENT
DTSTART;TZID=America/New_York:20260602T103000
DTEND;TZID=America/New_York:20260602T120000
DTSTAMP:20260422T070543
CREATED:20260405T030806Z
LAST-MODIFIED:20260405T031259Z
UID:733-1780396200-1780401600@www.sawcc-ccfsa.ca
SUMMARY:Group Activity: Needle crafting with Ranjini
DESCRIPTION:
URL:https://www.sawcc-ccfsa.ca/EN/event/group-activity-needle-crafting-with-ranjini/
LOCATION:South Asian Women’s Community Centre\, 1035 Rue Rachel E\, Montreal\, Montreal\, H2J 2J5\, Canada
END:VEVENT
BEGIN:VEVENT
DTSTART;TZID=America/New_York:20260613T000000
DTEND;TZID=America/New_York:20260613T235959
DTSTAMP:20260422T070543
CREATED:20260405T030840Z
LAST-MODIFIED:20260405T030840Z
UID:735-1781308800-1781395199@www.sawcc-ccfsa.ca
SUMMARY:SAWCC AGM - TBD
DESCRIPTION:
URL:https://www.sawcc-ccfsa.ca/EN/event/sawcc-agm-tbd/
LOCATION:Montreal
END:VEVENT
BEGIN:VEVENT
DTSTART;TZID=America/New_York:20260616T103000
DTEND;TZID=America/New_York:20260616T120000
DTSTAMP:20260422T070543
CREATED:20260405T030912Z
LAST-MODIFIED:20260405T031254Z
UID:737-1781605800-1781611200@www.sawcc-ccfsa.ca
SUMMARY:Group Activity: Tea\, tiffin\, thozhimai - a space for older women to connect with Meena
DESCRIPTION:
URL:https://www.sawcc-ccfsa.ca/EN/event/group-activity-tea-tiffin-thozhimai-a-space-for-older-women-to-connect-with-meena/
LOCATION:South Asian Women’s Community Centre\, 1035 Rue Rachel E\, Montreal\, Montreal\, H2J 2J5\, Canada
END:VEVENT
BEGIN:VEVENT
DTSTART;TZID=America/New_York:20260623T103000
DTEND;TZID=America/New_York:20260623T120000
DTSTAMP:20260422T070543
CREATED:20260405T031014Z
LAST-MODIFIED:20260405T031014Z
UID:739-1782210600-1782216000@www.sawcc-ccfsa.ca
SUMMARY:Trip: Discovering REM Montreal with the SAWCC team
DESCRIPTION:
URL:https://www.sawcc-ccfsa.ca/EN/event/trip-discovering-rem-montreal-with-the-sawcc-team/
LOCATION:South Asian Women’s Community Centre\, 1035 Rue Rachel E\, Montreal\, Montreal\, H2J 2J5\, Canada
END:VEVENT
BEGIN:VEVENT
DTSTART;TZID=America/New_York:20260630T103000
DTEND;TZID=America/New_York:20260630T120000
DTSTAMP:20260422T070543
CREATED:20260405T031036Z
LAST-MODIFIED:20260405T031246Z
UID:741-1782815400-1782820800@www.sawcc-ccfsa.ca
SUMMARY:Info Session: Learning about STM and safety while using public transport with STM
DESCRIPTION:
URL:https://www.sawcc-ccfsa.ca/EN/event/info-session-learning-about-stm-and-safety-while-using-public-transport-with-stm/
LOCATION:South Asian Women’s Community Centre\, 1035 Rue Rachel E\, Montreal\, Montreal\, H2J 2J5\, Canada
END:VEVENT
END:VCALENDAR