BEGIN:VCALENDAR
VERSION:2.0
PRODID:-//The South Asian Women&#039;s Community Center - ECPv6.15.17.1//NONSGML v1.0//EN
CALSCALE:GREGORIAN
METHOD:PUBLISH
X-WR-CALNAME:The South Asian Women&#039;s Community Center
X-ORIGINAL-URL:https://www.sawcc-ccfsa.ca/EN
X-WR-CALDESC:Events for The South Asian Women&#039;s Community Center
REFRESH-INTERVAL;VALUE=DURATION:PT1H
X-Robots-Tag:noindex
X-PUBLISHED-TTL:PT1H
BEGIN:VTIMEZONE
TZID:America/New_York
BEGIN:DAYLIGHT
TZOFFSETFROM:-0500
TZOFFSETTO:-0400
TZNAME:EDT
DTSTART:20250309T070000
END:DAYLIGHT
BEGIN:STANDARD
TZOFFSETFROM:-0400
TZOFFSETTO:-0500
TZNAME:EST
DTSTART:20251102T060000
END:STANDARD
BEGIN:DAYLIGHT
TZOFFSETFROM:-0500
TZOFFSETTO:-0400
TZNAME:EDT
DTSTART:20260308T070000
END:DAYLIGHT
BEGIN:STANDARD
TZOFFSETFROM:-0400
TZOFFSETTO:-0500
TZNAME:EST
DTSTART:20261101T060000
END:STANDARD
BEGIN:DAYLIGHT
TZOFFSETFROM:-0500
TZOFFSETTO:-0400
TZNAME:EDT
DTSTART:20270314T070000
END:DAYLIGHT
BEGIN:STANDARD
TZOFFSETFROM:-0400
TZOFFSETTO:-0500
TZNAME:EST
DTSTART:20271107T060000
END:STANDARD
END:VTIMEZONE
BEGIN:VEVENT
DTSTART;TZID=America/New_York:20260424T120000
DTEND;TZID=America/New_York:20260424T143000
DTSTAMP:20260422T115045
CREATED:20260405T030426Z
LAST-MODIFIED:20260405T030426Z
UID:720-1777032000-1777041000@www.sawcc-ccfsa.ca
SUMMARY:Community Lunch - Baisakhi Celebration
DESCRIPTION:
URL:https://www.sawcc-ccfsa.ca/EN/event/community-lunch-baisakhi-celebration/
LOCATION:South Asian Women’s Community Centre\, 1035 Rue Rachel E\, Montreal\, Montreal\, H2J 2J5\, Canada
END:VEVENT
BEGIN:VEVENT
DTSTART;TZID=America/New_York:20260428T103000
DTEND;TZID=America/New_York:20260428T120000
DTSTAMP:20260422T115045
CREATED:20260405T030335Z
LAST-MODIFIED:20260405T031328Z
UID:718-1777372200-1777377600@www.sawcc-ccfsa.ca
SUMMARY:Info Session: Online safety made easy with Digimasters
DESCRIPTION:
URL:https://www.sawcc-ccfsa.ca/EN/event/info-session-online-safety-made-easy-with-digimasters/
LOCATION:South Asian Women’s Community Centre\, 1035 Rue Rachel E\, Montreal\, Montreal\, H2J 2J5\, Canada
END:VEVENT
END:VCALENDAR