BEGIN:VCALENDAR
VERSION:2.0
PRODID:-//The South Asian Women&#039;s Community Center - ECPv6.15.17.1//NONSGML v1.0//EN
CALSCALE:GREGORIAN
METHOD:PUBLISH
X-WR-CALNAME:The South Asian Women&#039;s Community Center
X-ORIGINAL-URL:https://www.sawcc-ccfsa.ca/EN
X-WR-CALDESC:Events for The South Asian Women&#039;s Community Center
REFRESH-INTERVAL;VALUE=DURATION:PT1H
X-Robots-Tag:noindex
X-PUBLISHED-TTL:PT1H
BEGIN:VTIMEZONE
TZID:America/New_York
BEGIN:DAYLIGHT
TZOFFSETFROM:-0500
TZOFFSETTO:-0400
TZNAME:EDT
DTSTART:20240310T070000
END:DAYLIGHT
BEGIN:STANDARD
TZOFFSETFROM:-0400
TZOFFSETTO:-0500
TZNAME:EST
DTSTART:20241103T060000
END:STANDARD
BEGIN:DAYLIGHT
TZOFFSETFROM:-0500
TZOFFSETTO:-0400
TZNAME:EDT
DTSTART:20250309T070000
END:DAYLIGHT
BEGIN:STANDARD
TZOFFSETFROM:-0400
TZOFFSETTO:-0500
TZNAME:EST
DTSTART:20251102T060000
END:STANDARD
BEGIN:DAYLIGHT
TZOFFSETFROM:-0500
TZOFFSETTO:-0400
TZNAME:EDT
DTSTART:20260308T070000
END:DAYLIGHT
BEGIN:STANDARD
TZOFFSETFROM:-0400
TZOFFSETTO:-0500
TZNAME:EST
DTSTART:20261101T060000
END:STANDARD
BEGIN:DAYLIGHT
TZOFFSETFROM:-0500
TZOFFSETTO:-0400
TZNAME:EDT
DTSTART:20270314T070000
END:DAYLIGHT
BEGIN:STANDARD
TZOFFSETFROM:-0400
TZOFFSETTO:-0500
TZNAME:EST
DTSTART:20271107T060000
END:STANDARD
END:VTIMEZONE
BEGIN:VEVENT
DTSTART;TZID=America/New_York:20260331T103000
DTEND;TZID=America/New_York:20260331T120000
DTSTAMP:20260422T175646
CREATED:20260119T021946Z
LAST-MODIFIED:20260119T021946Z
UID:612-1774953000-1774958400@www.sawcc-ccfsa.ca
SUMMARY:Info Session: CRA & Its Services
DESCRIPTION:
URL:https://www.sawcc-ccfsa.ca/EN/event/info-session-cra-its-services/
LOCATION:South Asian Women’s Community Centre\, 1035 Rue Rachel E\, Montreal\, Montreal\, H2J 2J5\, Canada
END:VEVENT
BEGIN:VEVENT
DTSTART;TZID=America/New_York:20260327T120000
DTEND;TZID=America/New_York:20260327T143000
DTSTAMP:20260422T175646
CREATED:20260119T022133Z
LAST-MODIFIED:20260119T022133Z
UID:614-1774612800-1774621800@www.sawcc-ccfsa.ca
SUMMARY:Community Lunch: Eid & Nowroz Celebrations
DESCRIPTION:
URL:https://www.sawcc-ccfsa.ca/EN/event/community-lunch-eid-nowroz-celebrations/
LOCATION:South Asian Women’s Community Centre\, 1035 Rue Rachel E\, Montreal\, Montreal\, H2J 2J5\, Canada
END:VEVENT
BEGIN:VEVENT
DTSTART;TZID=America/New_York:20260324T103000
DTEND;TZID=America/New_York:20260324T120000
DTSTAMP:20260422T175646
CREATED:20260119T021749Z
LAST-MODIFIED:20260119T021749Z
UID:610-1774348200-1774353600@www.sawcc-ccfsa.ca
SUMMARY:Fun Group Activity Time
DESCRIPTION:
URL:https://www.sawcc-ccfsa.ca/EN/event/fun-group-activity-time/
LOCATION:South Asian Women’s Community Centre\, 1035 Rue Rachel E\, Montreal\, Montreal\, H2J 2J5\, Canada
END:VEVENT
BEGIN:VEVENT
DTSTART;TZID=America/New_York:20260317T103000
DTEND;TZID=America/New_York:20260317T120000
DTSTAMP:20260422T175646
CREATED:20260119T021710Z
LAST-MODIFIED:20260119T021710Z
UID:608-1773743400-1773748800@www.sawcc-ccfsa.ca
SUMMARY:Info Session: Adopting Hobbies for Good Mental Health
DESCRIPTION:
URL:https://www.sawcc-ccfsa.ca/EN/event/info-session-adopting-hobbies-for-good-mental-health/
LOCATION:South Asian Women’s Community Centre\, 1035 Rue Rachel E\, Montreal\, Montreal\, H2J 2J5\, Canada
END:VEVENT
BEGIN:VEVENT
DTSTART;TZID=America/New_York:20260310T103000
DTEND;TZID=America/New_York:20260310T123000
DTSTAMP:20260422T175646
CREATED:20260119T021614Z
LAST-MODIFIED:20260119T021614Z
UID:606-1773138600-1773145800@www.sawcc-ccfsa.ca
SUMMARY:Info Session: Understanding Anxiety\, Stress and Depression
DESCRIPTION:
URL:https://www.sawcc-ccfsa.ca/EN/event/info-session-understanding-anxiety-stress-and-depression/
LOCATION:South Asian Women’s Community Centre\, 1035 Rue Rachel E\, Montreal\, Montreal\, H2J 2J5\, Canada
END:VEVENT
BEGIN:VEVENT
DTSTART;TZID=America/New_York:20260308T000000
DTEND;TZID=America/New_York:20260308T235959
DTSTAMP:20260422T175646
CREATED:20260119T021533Z
LAST-MODIFIED:20260119T021533Z
UID:604-1772928000-1773014399@www.sawcc-ccfsa.ca
SUMMARY:International Women’s Day March *details to follow
DESCRIPTION:
URL:https://www.sawcc-ccfsa.ca/EN/event/international-womens-day-march-details-to-follow/
LOCATION:South Asian Women’s Community Centre\, 1035 Rue Rachel E\, Montreal\, Montreal\, H2J 2J5\, Canada
END:VEVENT
BEGIN:VEVENT
DTSTART;TZID=America/New_York:20260303T103000
DTEND;TZID=America/New_York:20260303T120000
DTSTAMP:20260422T175646
CREATED:20260119T021435Z
LAST-MODIFIED:20260119T021435Z
UID:602-1772533800-1772539200@www.sawcc-ccfsa.ca
SUMMARY:Info Session: International Women's Day & Women’s Rights
DESCRIPTION:
URL:https://www.sawcc-ccfsa.ca/EN/event/info-session-international-womens-day-womens-rights/
LOCATION:South Asian Women’s Community Centre\, 1035 Rue Rachel E\, Montreal\, Montreal\, H2J 2J5\, Canada
END:VEVENT
BEGIN:VEVENT
DTSTART;TZID=America/New_York:20260224T103000
DTEND;TZID=America/New_York:20260224T120000
DTSTAMP:20260422T175646
CREATED:20260119T020816Z
LAST-MODIFIED:20260119T020816Z
UID:600-1771929000-1771934400@www.sawcc-ccfsa.ca
SUMMARY:Info Session: Gestational Diabetes
DESCRIPTION:
URL:https://www.sawcc-ccfsa.ca/EN/event/info-session-gestational-diabetes/
LOCATION:South Asian Women’s Community Centre\, 1035 Rue Rachel E\, Montreal\, Montreal\, H2J 2J5\, Canada
END:VEVENT
BEGIN:VEVENT
DTSTART;TZID=America/New_York:20260217T103000
DTEND;TZID=America/New_York:20260217T120000
DTSTAMP:20260422T175646
CREATED:20260119T020740Z
LAST-MODIFIED:20260119T020740Z
UID:598-1771324200-1771329600@www.sawcc-ccfsa.ca
SUMMARY:Activity: Immigration & Its Challenges
DESCRIPTION:
URL:https://www.sawcc-ccfsa.ca/EN/event/activity-immigration-its-challenges/
LOCATION:South Asian Women’s Community Centre\, 1035 Rue Rachel E\, Montreal\, Montreal\, H2J 2J5\, Canada
END:VEVENT
BEGIN:VEVENT
DTSTART;TZID=America/New_York:20260213T120000
DTEND;TZID=America/New_York:20260213T143000
DTSTAMP:20260422T175646
CREATED:20260119T020702Z
LAST-MODIFIED:20260119T020702Z
UID:596-1770984000-1770993000@www.sawcc-ccfsa.ca
SUMMARY:Community Lunch: Valentine’s Day
DESCRIPTION:
URL:https://www.sawcc-ccfsa.ca/EN/event/community-lunch-valentines-day/
LOCATION:South Asian Women’s Community Centre\, 1035 Rue Rachel E\, Montreal\, Montreal\, H2J 2J5\, Canada
END:VEVENT
BEGIN:VEVENT
DTSTART;TZID=America/New_York:20260210T103000
DTEND;TZID=America/New_York:20260210T120000
DTSTAMP:20260422T175646
CREATED:20260119T020621Z
LAST-MODIFIED:20260119T020621Z
UID:594-1770719400-1770724800@www.sawcc-ccfsa.ca
SUMMARY:Recipe Exchange: Baking Short Bread & Brownies
DESCRIPTION:
URL:https://www.sawcc-ccfsa.ca/EN/event/recipe-exchange-baking-short-bread-brownies/
LOCATION:South Asian Women’s Community Centre\, 1035 Rue Rachel E\, Montreal\, Montreal\, H2J 2J5\, Canada
END:VEVENT
BEGIN:VEVENT
DTSTART;TZID=America/New_York:20260203T103000
DTEND;TZID=America/New_York:20260203T120000
DTSTAMP:20260422T175646
CREATED:20260119T020544Z
LAST-MODIFIED:20260119T020544Z
UID:592-1770114600-1770120000@www.sawcc-ccfsa.ca
SUMMARY:Info Session: Housing & Tenant Rights
DESCRIPTION:
URL:https://www.sawcc-ccfsa.ca/EN/event/info-session-housing-tenant-rights/
LOCATION:South Asian Women’s Community Centre\, 1035 Rue Rachel E\, Montreal\, Montreal\, H2J 2J5\, Canada
END:VEVENT
BEGIN:VEVENT
DTSTART;TZID=America/New_York:20260130T120000
DTEND;TZID=America/New_York:20260130T143000
DTSTAMP:20260422T175646
CREATED:20260119T015742Z
LAST-MODIFIED:20260119T015742Z
UID:587-1769774400-1769783400@www.sawcc-ccfsa.ca
SUMMARY:Community Lunch - Pongal celebration
DESCRIPTION:
URL:https://www.sawcc-ccfsa.ca/EN/event/community-lunch-pongal-celebration/
LOCATION:South Asian Women’s Community Centre\, 1035 Rue Rachel E\, Montreal\, Montreal\, H2J 2J5\, Canada
END:VEVENT
BEGIN:VEVENT
DTSTART;TZID=America/New_York:20251220T000000
DTEND;TZID=America/New_York:20260104T235959
DTSTAMP:20260422T175646
CREATED:20251107T035108Z
LAST-MODIFIED:20251107T035536Z
UID:361-1766188800-1767571199@www.sawcc-ccfsa.ca
SUMMARY:CENTRE CLOSED
DESCRIPTION:
URL:https://www.sawcc-ccfsa.ca/EN/event/centre-closed/
LOCATION:Montreal
END:VEVENT
BEGIN:VEVENT
DTSTART;TZID=America/New_York:20251219T150000
DTEND;TZID=America/New_York:20251219T170000
DTSTAMP:20260422T175646
CREATED:20251107T145413Z
LAST-MODIFIED:20251107T145413Z
UID:471-1766156400-1766163600@www.sawcc-ccfsa.ca
SUMMARY:Christmas Party
DESCRIPTION:Come to our Christmas Party.
URL:https://www.sawcc-ccfsa.ca/EN/event/christmas-party/
LOCATION:South Asian Women’s Community Centre\, 1035 Rue Rachel E\, Montreal\, Montreal\, H2J 2J5\, Canada
END:VEVENT
BEGIN:VEVENT
DTSTART;TZID=America/New_York:20251213T080000
DTEND;TZID=America/New_York:20251213T170000
DTSTAMP:20260422T175646
CREATED:20251107T035022Z
LAST-MODIFIED:20251107T035022Z
UID:359-1765612800-1765645200@www.sawcc-ccfsa.ca
SUMMARY:Year-end Party Tentative
DESCRIPTION:
URL:https://www.sawcc-ccfsa.ca/EN/event/year-end-party-tentative/
LOCATION:South Asian Women’s Community Centre\, 1035 Rue Rachel E\, Montreal\, Montreal\, H2J 2J5\, Canada
END:VEVENT
BEGIN:VEVENT
DTSTART;TZID=America/New_York:20251209T103000
DTEND;TZID=America/New_York:20251209T120000
DTSTAMP:20260422T175646
CREATED:20251107T034952Z
LAST-MODIFIED:20251107T034952Z
UID:357-1765276200-1765281600@www.sawcc-ccfsa.ca
SUMMARY:Info session: Parent teen relationships
DESCRIPTION:
URL:https://www.sawcc-ccfsa.ca/EN/event/info-session-parent-teen-relationships/
LOCATION:South Asian Women’s Community Centre\, 1035 Rue Rachel E\, Montreal\, Montreal\, H2J 2J5\, Canada
END:VEVENT
BEGIN:VEVENT
DTSTART;TZID=America/New_York:20251206T080000
DTEND;TZID=America/New_York:20251206T170000
DTSTAMP:20260422T175646
CREATED:20251107T034910Z
LAST-MODIFIED:20251107T034910Z
UID:355-1765008000-1765040400@www.sawcc-ccfsa.ca
SUMMARY:Commemoration
DESCRIPTION:
URL:https://www.sawcc-ccfsa.ca/EN/event/commemoration/
LOCATION:South Asian Women’s Community Centre\, 1035 Rue Rachel E\, Montreal\, Montreal\, H2J 2J5\, Canada
END:VEVENT
BEGIN:VEVENT
DTSTART;TZID=America/New_York:20251202T103000
DTEND;TZID=America/New_York:20251202T120000
DTSTAMP:20260422T175646
CREATED:20251107T034836Z
LAST-MODIFIED:20251107T034842Z
UID:352-1764671400-1764676800@www.sawcc-ccfsa.ca
SUMMARY:Info session: Commemoration
DESCRIPTION:
URL:https://www.sawcc-ccfsa.ca/EN/event/info-session-commemoratio/
LOCATION:South Asian Women’s Community Centre\, 1035 Rue Rachel E\, Montreal\, Montreal\, H2J 2J5\, Canada
END:VEVENT
BEGIN:VEVENT
DTSTART;TZID=America/New_York:20251128T120000
DTEND;TZID=America/New_York:20251128T143000
DTSTAMP:20260422T175646
CREATED:20251107T034810Z
LAST-MODIFIED:20251107T034810Z
UID:350-1764331200-1764340200@www.sawcc-ccfsa.ca
SUMMARY:Community Lunch
DESCRIPTION:
URL:https://www.sawcc-ccfsa.ca/EN/event/community-lunch/
LOCATION:South Asian Women’s Community Centre\, 1035 Rue Rachel E\, Montreal\, Montreal\, H2J 2J5\, Canada
END:VEVENT
BEGIN:VEVENT
DTSTART;TZID=America/New_York:20251125T103000
DTEND;TZID=America/New_York:20251125T120000
DTSTAMP:20260422T175646
CREATED:20251107T034513Z
LAST-MODIFIED:20251121T070052Z
UID:346-1764066600-1764072000@www.sawcc-ccfsa.ca
SUMMARY:Workshop- Violence: Power starts within\, change follows
DESCRIPTION:
URL:https://www.sawcc-ccfsa.ca/EN/event/workshop-violence-power-starts-within-change-follows/
LOCATION:South Asian Women’s Community Centre\, 1035 Rue Rachel E\, Montreal\, Montreal\, H2J 2J5\, Canada
END:VEVENT
BEGIN:VEVENT
DTSTART;TZID=America/New_York:20251118T103000
DTEND;TZID=America/New_York:20251118T120000
DTSTAMP:20260422T175646
CREATED:20251107T034215Z
LAST-MODIFIED:20251121T070024Z
UID:343-1763461800-1763467200@www.sawcc-ccfsa.ca
SUMMARY:Info session: Women's shelters
DESCRIPTION: 
URL:https://www.sawcc-ccfsa.ca/EN/event/info-session-women-shelters/
LOCATION:South Asian Women’s Community Centre\, 1035 Rue Rachel E\, Montreal\, Montreal\, H2J 2J5\, Canada
END:VEVENT
BEGIN:VEVENT
DTSTART;TZID=America/New_York:20251111T103000
DTEND;TZID=America/New_York:20251111T120000
DTSTAMP:20260422T175646
CREATED:20251107T023443Z
LAST-MODIFIED:20251107T034646Z
UID:330-1762857000-1762862400@www.sawcc-ccfsa.ca
SUMMARY:Workshop: The Symbolism Behind Bharatanatyam Mudras
DESCRIPTION:
URL:https://www.sawcc-ccfsa.ca/EN/event/workshop-the-symbolism-behind-bharatanatyam-mudras/
LOCATION:South Asian Women’s Community Centre\, 1035 Rue Rachel E\, Montreal\, Montreal\, H2J 2J5\, Canada
END:VEVENT
END:VCALENDAR